BEGIN:VCALENDAR
VERSION:2.0
PRODID:-//ChamberMaster//Event Calendar 2.0//EN
METHOD:PUBLISH
X-PUBLISHED-TTL:P3D
REFRESH-INTERVAL:P3D
CALSCALE:GREGORIAN
BEGIN:VEVENT
DTSTART:20181120T170000Z
DTEND:20181120T190000Z
X-MICROSOFT-CDO-ALLDAYEVENT:FALSE
SUMMARY:Action Leads Group
DESCRIPTION:Chair: Peggy Jenkins / Intellisystems
X-ALT-DESC;FMTTYPE=text/html:<p class="p1"><b>Chair: Peggy Jenkins / Intellisystems</b></p>\n
LOCATION:Plantation Chamber of Commerce 7401 NW 4th Street Plantation\, FL 33317
UID:e.1594.5511
SEQUENCE:3
DTSTAMP:20260420T124213Z
URL:https://public.plantationchamber.org/events/details/action-leads-group-11-20-2018-5511
END:VEVENT

END:VCALENDAR
